Package: megadepth Version: 1.14.0 Command: rm -rf megadepth.buildbin-libdir && mkdir megadepth.buildbin-libdir && F:\biocbuild\bbs-3.19-bioc\R\bin\R.exe CMD INSTALL --build --library=megadepth.buildbin-libdir megadepth_1.14.0.tar.gz StartedAt: 2024-06-27 08:28:04 -0400 (Thu, 27 Jun 2024) EndedAt: 2024-06-27 08:28:22 -0400 (Thu, 27 Jun 2024) EllapsedTime: 18.5 seconds RetCode: 0 Status: OK PackageFile: megadepth_1.14.0.zip PackageFileSize: 493.5 KiB