Package: megadepth Version: 1.14.0 Command: chmod a+r megadepth -R && F:\biocbuild\bbs-3.19-bioc\R\bin\R.exe CMD build --keep-empty-dirs --no-resave-data megadepth StartedAt: 2024-06-26 19:53:46 -0400 (Wed, 26 Jun 2024) EndedAt: 2024-06-26 19:54:37 -0400 (Wed, 26 Jun 2024) EllapsedTime: 51.0 seconds RetCode: 0 Status: OK PackageFile: megadepth_1.14.0.tar.gz PackageFileSize: 466.8 KiB