Package: megadepth Version: 1.14.0 Command: rm -rf megadepth.buildbin-libdir && mkdir megadepth.buildbin-libdir && E:\biocbuild\bbs-3.19-bioc\R\bin\R.exe CMD INSTALL --build --library=megadepth.buildbin-libdir megadepth_1.14.0.tar.gz StartedAt: 2024-10-17 08:05:50 -0400 (Thu, 17 Oct 2024) EndedAt: 2024-10-17 08:06:12 -0400 (Thu, 17 Oct 2024) EllapsedTime: 22.0 seconds RetCode: 0 Status: OK PackageFile: megadepth_1.14.0.zip PackageFileSize: 493.4 KiB