Package: megadepth Version: 1.14.0 Command: chmod a+r megadepth -R && E:\biocbuild\bbs-3.19-bioc\R\bin\R.exe CMD build --keep-empty-dirs --no-resave-data megadepth StartedAt: 2024-10-16 20:08:30 -0400 (Wed, 16 Oct 2024) EndedAt: 2024-10-16 20:09:15 -0400 (Wed, 16 Oct 2024) EllapsedTime: 45.2 seconds RetCode: 0 Status: OK PackageFile: megadepth_1.14.0.tar.gz PackageFileSize: 466.7 KiB