Package: messina Version: 1.40.0 Command: rm -rf messina.buildbin-libdir && mkdir messina.buildbin-libdir && /Users/biocbuild/BBS/utils/build-universal.sh messina_1.40.0.tar.gz /Library/Frameworks/R.framework/Resources/bin/R messina.buildbin-libdir StartedAt: 2024-10-18 19:18:40 -0400 (Fri, 18 Oct 2024) EndedAt: 2024-10-18 19:19:09 -0400 (Fri, 18 Oct 2024) EllapsedTime: 29.5 seconds RetCode: 0 Status: OK PackageFile: messina_1.40.0.tgz PackageFileSize: 534.8 KiB