Package: messina Version: 1.40.0 Command: /Library/Frameworks/R.framework/Resources/bin/R CMD build --keep-empty-dirs --no-resave-data messina StartedAt: 2024-10-16 20:38:18 -0400 (Wed, 16 Oct 2024) EndedAt: 2024-10-16 20:42:05 -0400 (Wed, 16 Oct 2024) EllapsedTime: 227.5 seconds RetCode: 0 Status: OK PackageFile: messina_1.40.0.tar.gz PackageFileSize: 297.4 KiB