Package: messina Version: 1.40.0 Command: rm -rf messina.buildbin-libdir && mkdir messina.buildbin-libdir && F:\biocbuild\bbs-3.19-bioc\R\bin\R.exe CMD INSTALL --build --library=messina.buildbin-libdir messina_1.40.0.tar.gz StartedAt: 2024-06-27 08:28:20 -0400 (Thu, 27 Jun 2024) EndedAt: 2024-06-27 08:29:22 -0400 (Thu, 27 Jun 2024) EllapsedTime: 61.9 seconds RetCode: 0 Status: OK PackageFile: messina_1.40.0.zip PackageFileSize: 843.4 KiB