Package: messina Version: 1.40.0 Command: chmod a+r messina -R && F:\biocbuild\bbs-3.19-bioc\R\bin\R.exe CMD build --keep-empty-dirs --no-resave-data messina StartedAt: 2024-06-26 19:54:34 -0400 (Wed, 26 Jun 2024) EndedAt: 2024-06-26 19:56:49 -0400 (Wed, 26 Jun 2024) EllapsedTime: 135.5 seconds RetCode: 0 Status: OK PackageFile: messina_1.40.0.tar.gz PackageFileSize: 297.9 KiB