Package: metaSeq Version: 1.44.0 Command: rm -rf metaSeq.buildbin-libdir && mkdir metaSeq.buildbin-libdir && /Users/biocbuild/BBS/utils/build-universal.sh metaSeq_1.44.0.tar.gz /Library/Frameworks/R.framework/Resources/bin/R metaSeq.buildbin-libdir StartedAt: 2024-10-17 16:33:08 -0400 (Thu, 17 Oct 2024) EndedAt: 2024-10-17 16:33:29 -0400 (Thu, 17 Oct 2024) EllapsedTime: 20.3 seconds RetCode: 0 Status: OK PackageFile: metaSeq_1.44.0.tgz PackageFileSize: 6.179 MiB