Package: metaSeq Version: 1.44.0 Command: chmod a+r metaSeq -R && E:\biocbuild\bbs-3.19-bioc\R\bin\R.exe CMD build --keep-empty-dirs --no-resave-data metaSeq StartedAt: 2024-10-16 20:11:09 -0400 (Wed, 16 Oct 2024) EndedAt: 2024-10-16 20:11:28 -0400 (Wed, 16 Oct 2024) EllapsedTime: 19.0 seconds RetCode: 0 Status: OK PackageFile: metaSeq_1.44.0.tar.gz PackageFileSize: 6.084 MiB