Package: metabCombiner Version: 1.14.0 Maintainer: Hani Habra MaintainerEmail: hhabra1 at gmail.com git_url: https://git.bioconductor.org/packages/metabCombiner git_branch: RELEASE_3_19 git_last_commit: 734d615 git_last_commit_date: 2024-04-30 11:28:28 -0400 (Tue, 30 Apr 2024)