Package: metabCombiner Version: 1.14.0 Command: rm -rf metabCombiner.buildbin-libdir && mkdir metabCombiner.buildbin-libdir && /Users/biocbuild/BBS/utils/build-universal.sh metabCombiner_1.14.0.tar.gz /Library/Frameworks/R.framework/Resources/bin/R metabCombiner.buildbin-libdir StartedAt: 2024-10-18 19:18:43 -0400 (Fri, 18 Oct 2024) EndedAt: 2024-10-18 19:19:10 -0400 (Fri, 18 Oct 2024) EllapsedTime: 27.3 seconds RetCode: 0 Status: OK PackageFile: metabCombiner_1.14.0.tgz PackageFileSize: 2.928 MiB