Package: metabCombiner Version: 1.14.0 Command: rm -rf metabCombiner.buildbin-libdir && mkdir metabCombiner.buildbin-libdir && /Users/biocbuild/BBS/utils/build-universal.sh metabCombiner_1.14.0.tar.gz /Library/Frameworks/R.framework/Resources/bin/R metabCombiner.buildbin-libdir StartedAt: 2024-06-11 11:57:26 -0400 (Tue, 11 Jun 2024) EndedAt: 2024-06-11 11:58:03 -0400 (Tue, 11 Jun 2024) EllapsedTime: 37.1 seconds RetCode: 0 Status: OK PackageFile: metabCombiner_1.14.0.tgz PackageFileSize: 2.928 MiB