Package: metabCombiner Version: 1.14.0 Command: /home/biocbuild/R/R-beta-2024-04-15_r86425/bin/R CMD build --keep-empty-dirs --no-resave-data metabCombiner StartedAt: 2024-05-09 01:27:07 -0000 (Thu, 09 May 2024) EndedAt: 2024-05-09 01:27:49 -0000 (Thu, 09 May 2024) EllapsedTime: 42.1 seconds RetCode: 0 Status: OK PackageFile: metabCombiner_1.14.0.tar.gz PackageFileSize: 2.532 MiB