Package: metabCombiner Version: 1.14.0 Command: rm -rf metabCombiner.buildbin-libdir && mkdir metabCombiner.buildbin-libdir && /Users/biocbuild/BBS/utils/build-universal.sh metabCombiner_1.14.0.tar.gz /Library/Frameworks/R.framework/Resources/bin/R metabCombiner.buildbin-libdir StartedAt: 2024-06-10 00:25:58 -0400 (Mon, 10 Jun 2024) EndedAt: 2024-06-10 00:26:25 -0400 (Mon, 10 Jun 2024) EllapsedTime: 27.0 seconds RetCode: 0 Status: OK PackageFile: metabCombiner_1.14.0.tgz PackageFileSize: 2.928 MiB