Package: metabCombiner Version: 1.14.0 Command: /Library/Frameworks/R.framework/Resources/bin/R CMD build --keep-empty-dirs --no-resave-data metabCombiner StartedAt: 2024-10-16 20:38:31 -0400 (Wed, 16 Oct 2024) EndedAt: 2024-10-16 20:40:10 -0400 (Wed, 16 Oct 2024) EllapsedTime: 98.5 seconds RetCode: 0 Status: OK PackageFile: metabCombiner_1.14.0.tar.gz PackageFileSize: 2.55 MiB