Package: metabCombiner Version: 1.14.0 Command: rm -rf metabCombiner.buildbin-libdir && mkdir metabCombiner.buildbin-libdir && E:\biocbuild\bbs-3.19-bioc\R\bin\R.exe CMD INSTALL --build --library=metabCombiner.buildbin-libdir metabCombiner_1.14.0.tar.gz StartedAt: 2024-10-17 08:06:09 -0400 (Thu, 17 Oct 2024) EndedAt: 2024-10-17 08:07:21 -0400 (Thu, 17 Oct 2024) EllapsedTime: 72.2 seconds RetCode: 0 Status: OK PackageFile: metabCombiner_1.14.0.zip PackageFileSize: 2.865 MiB