Package: metabomxtr Version: 1.38.0 Command: rm -rf metabomxtr.buildbin-libdir && mkdir metabomxtr.buildbin-libdir && /Users/biocbuild/BBS/utils/build-universal.sh metabomxtr_1.38.0.tar.gz /Library/Frameworks/R.framework/Resources/bin/R metabomxtr.buildbin-libdir StartedAt: 2024-10-18 19:19:10 -0400 (Fri, 18 Oct 2024) EndedAt: 2024-10-18 19:19:26 -0400 (Fri, 18 Oct 2024) EllapsedTime: 16.0 seconds RetCode: 0 Status: OK PackageFile: metabomxtr_1.38.0.tgz PackageFileSize: 647.9 KiB