Package: metabomxtr Version: 1.38.0 Command: /Library/Frameworks/R.framework/Resources/bin/R CMD INSTALL metabomxtr StartedAt: 2024-10-16 18:06:50 -0400 (Wed, 16 Oct 2024) EndedAt: 2024-10-16 18:07:02 -0400 (Wed, 16 Oct 2024) EllapsedTime: 11.9 seconds RetCode: 0 Status: OK