Package: metabomxtr Version: 1.38.0 Command: /home/biocbuild/bbs-3.19-bioc/R/bin/R CMD build --keep-empty-dirs --no-resave-data metabomxtr StartedAt: 2024-10-16 19:21:00 -0400 (Wed, 16 Oct 2024) EndedAt: 2024-10-16 19:21:26 -0400 (Wed, 16 Oct 2024) EllapsedTime: 26.1 seconds RetCode: 0 Status: OK PackageFile: metabomxtr_1.38.0.tar.gz PackageFileSize: 338.8 KiB