Package: methimpute Version: 1.26.0 Command: /home/biocbuild/R/R-beta-2024-04-15_r86425/bin/R CMD build --keep-empty-dirs --no-resave-data methimpute StartedAt: 2024-05-09 01:29:49 -0000 (Thu, 09 May 2024) EndedAt: 2024-05-09 01:33:03 -0000 (Thu, 09 May 2024) EllapsedTime: 193.2 seconds RetCode: 0 Status: OK PackageFile: methimpute_1.26.0.tar.gz PackageFileSize: 1.259 MiB