Package: methimpute Version: 1.26.0 Command: /Library/Frameworks/R.framework/Resources/bin/R CMD INSTALL methimpute StartedAt: 2024-06-09 15:09:03 -0400 (Sun, 09 Jun 2024) EndedAt: 2024-06-09 15:09:57 -0400 (Sun, 09 Jun 2024) EllapsedTime: 53.9 seconds RetCode: 0 Status: OK