Package: methimpute Version: 1.26.0 Command: /home/biocbuild/bbs-3.19-bioc/R/bin/R CMD check --install=check:methimpute.install-out.txt --library=/home/biocbuild/bbs-3.19-bioc/R/site-library --timings methimpute_1.26.0.tar.gz StartedAt: 2024-10-17 02:14:21 -0400 (Thu, 17 Oct 2024) EndedAt: 2024-10-17 02:17:56 -0400 (Thu, 17 Oct 2024) EllapsedTime: 214.4 seconds RetCode: 0 Status: WARNINGS CheckDir: methimpute.Rcheck Warnings: 1