Package: methodical Version: 1.0.0 Command: rm -rf methodical.buildbin-libdir && mkdir methodical.buildbin-libdir && /Users/biocbuild/BBS/utils/build-universal.sh methodical_1.0.0.tar.gz /Library/Frameworks/R.framework/Resources/bin/R methodical.buildbin-libdir StartedAt: 2024-06-10 00:26:19 -0400 (Mon, 10 Jun 2024) EndedAt: 2024-06-10 00:27:02 -0400 (Mon, 10 Jun 2024) EllapsedTime: 42.8 seconds RetCode: 0 Status: OK PackageFile: methodical_1.0.0.tgz PackageFileSize: 4.729 MiB