Package: methodical Version: 1.0.0 Command: /Library/Frameworks/R.framework/Resources/bin/R CMD INSTALL methodical StartedAt: 2024-10-16 15:38:23 -0400 (Wed, 16 Oct 2024) EndedAt: 2024-10-16 15:39:53 -0400 (Wed, 16 Oct 2024) EllapsedTime: 90.0 seconds RetCode: 0 Status: OK