Package: methylCC Version: 1.18.0 Command: /Library/Frameworks/R.framework/Resources/bin/R CMD build --keep-empty-dirs --no-resave-data methylCC StartedAt: 2024-10-17 04:09:21 -0400 (Thu, 17 Oct 2024) EndedAt: 2024-10-17 04:14:45 -0400 (Thu, 17 Oct 2024) EllapsedTime: 324.5 seconds RetCode: 0 Status: OK PackageFile: methylCC_1.18.0.tar.gz PackageFileSize: 4.378 MiB