Package: methylCC Version: 1.18.0 Command: /Library/Frameworks/R.framework/Resources/bin/R CMD INSTALL methylCC StartedAt: 2024-10-16 18:46:33 -0400 (Wed, 16 Oct 2024) EndedAt: 2024-10-16 18:47:34 -0400 (Wed, 16 Oct 2024) EllapsedTime: 61.5 seconds RetCode: 0 Status: OK