Package: methylCC Version: 1.18.0 Command: /Library/Frameworks/R.framework/Resources/bin/R CMD check --install=check:methylCC.install-out.txt --library=/Library/Frameworks/R.framework/Resources/library --no-vignettes --timings methylCC_1.18.0.tar.gz StartedAt: 2024-10-17 08:15:03 -0400 (Thu, 17 Oct 2024) EndedAt: 2024-10-17 08:32:26 -0400 (Thu, 17 Oct 2024) EllapsedTime: 1042.8 seconds RetCode: 0 Status: OK CheckDir: methylCC.Rcheck Warnings: 0