Package: methylCC Version: 1.18.0 Command: /home/biocbuild/bbs-3.19-bioc/R/bin/R CMD build --keep-empty-dirs --no-resave-data methylCC StartedAt: 2024-10-16 19:23:50 -0400 (Wed, 16 Oct 2024) EndedAt: 2024-10-16 19:27:09 -0400 (Wed, 16 Oct 2024) EllapsedTime: 199.3 seconds RetCode: 0 Status: OK PackageFile: methylCC_1.18.0.tar.gz PackageFileSize: 4.363 MiB