Package: methylCC Version: 1.18.0 Command: chmod a+r methylCC -R && E:\biocbuild\bbs-3.19-bioc\R\bin\R.exe CMD build --keep-empty-dirs --no-resave-data methylCC StartedAt: 2024-10-16 20:13:06 -0400 (Wed, 16 Oct 2024) EndedAt: 2024-10-16 20:17:24 -0400 (Wed, 16 Oct 2024) EllapsedTime: 257.4 seconds RetCode: 0 Status: OK PackageFile: methylCC_1.18.0.tar.gz PackageFileSize: 4.315 MiB