Package: methylPipe Version: 1.38.0 Maintainer: Mattia Furlan MaintainerEmail: mattia.furlan at iit.it git_url: https://git.bioconductor.org/packages/methylPipe git_branch: RELEASE_3_19 git_last_commit: f78a9ab git_last_commit_date: 2024-04-30 10:38:25 -0400 (Tue, 30 Apr 2024)