Package: methylPipe Version: 1.38.0 Command: /home/biocbuild/R/R-beta-2024-04-15_r86425/bin/R CMD build --keep-empty-dirs --no-resave-data methylPipe StartedAt: 2024-05-09 01:34:08 -0000 (Thu, 09 May 2024) EndedAt: 2024-05-09 01:37:17 -0000 (Thu, 09 May 2024) EllapsedTime: 189.2 seconds RetCode: 0 Status: OK PackageFile: methylPipe_1.38.0.tar.gz PackageFileSize: 585.1 KiB