Package: methylPipe Version: 1.38.0 Command: F:\biocbuild\bbs-3.19-bioc\R\bin\R.exe CMD INSTALL methylPipe StartedAt: 2024-06-26 16:23:34 -0400 (Wed, 26 Jun 2024) EndedAt: 2024-06-26 16:24:48 -0400 (Wed, 26 Jun 2024) EllapsedTime: 74.0 seconds RetCode: 0 Status: OK