Package: methylPipe Version: 1.38.0 Command: rm -rf methylPipe.buildbin-libdir && mkdir methylPipe.buildbin-libdir && E:\biocbuild\bbs-3.19-bioc\R\bin\R.exe CMD INSTALL --build --library=methylPipe.buildbin-libdir methylPipe_1.38.0.tar.gz StartedAt: 2024-10-17 08:07:21 -0400 (Thu, 17 Oct 2024) EndedAt: 2024-10-17 08:08:27 -0400 (Thu, 17 Oct 2024) EllapsedTime: 66.5 seconds RetCode: 0 Status: OK PackageFile: methylPipe_1.38.0.zip PackageFileSize: 1.476 MiB