Package: methylPipe Version: 1.38.0 Command: chmod a+r methylPipe -R && E:\biocbuild\bbs-3.19-bioc\R\bin\R.exe CMD build --keep-empty-dirs --no-resave-data methylPipe StartedAt: 2024-10-16 20:15:04 -0400 (Wed, 16 Oct 2024) EndedAt: 2024-10-16 20:18:07 -0400 (Wed, 16 Oct 2024) EllapsedTime: 183.4 seconds RetCode: 0 Status: OK PackageFile: methylPipe_1.38.0.tar.gz PackageFileSize: 783.8 KiB