Package: methylscaper Version: 1.12.3 Maintainer: Bacher Rhonda MaintainerEmail: rbacher at ufl.edu git_url: https://git.bioconductor.org/packages/methylscaper git_branch: RELEASE_3_19 git_last_commit: ba718c9 git_last_commit_date: 2024-10-01 23:24:21 -0400 (Tue, 01 Oct 2024)