Package: methylscaper Version: 1.12.3 Command: rm -rf methylscaper.buildbin-libdir && mkdir methylscaper.buildbin-libdir && /Users/biocbuild/BBS/utils/build-universal.sh methylscaper_1.12.3.tar.gz /Library/Frameworks/R.framework/Resources/bin/R methylscaper.buildbin-libdir StartedAt: 2024-10-18 19:24:02 -0400 (Fri, 18 Oct 2024) EndedAt: 2024-10-18 19:24:42 -0400 (Fri, 18 Oct 2024) EllapsedTime: 40.6 seconds RetCode: 0 Status: OK PackageFile: methylscaper_1.12.3.tgz PackageFileSize: 3.208 MiB