Package: methylscaper Version: 1.12.3 Command: /Library/Frameworks/R.framework/Resources/bin/R CMD INSTALL methylscaper StartedAt: 2024-10-16 18:33:33 -0400 (Wed, 16 Oct 2024) EndedAt: 2024-10-16 18:34:06 -0400 (Wed, 16 Oct 2024) EllapsedTime: 32.5 seconds RetCode: 0 Status: OK