Package: methylscaper Version: 1.12.0 Command: /Library/Frameworks/R.framework/Resources/bin/R CMD build --keep-empty-dirs --no-resave-data methylscaper StartedAt: 2024-06-10 00:24:31 -0400 (Mon, 10 Jun 2024) EndedAt: 2024-06-10 00:28:16 -0400 (Mon, 10 Jun 2024) EllapsedTime: 225.0 seconds RetCode: 0 Status: OK PackageFile: methylscaper_1.12.0.tar.gz PackageFileSize: 4.034 MiB