Package: methylscaper Version: 1.12.0 Command: /Library/Frameworks/R.framework/Resources/bin/R CMD INSTALL methylscaper StartedAt: 2024-06-09 17:24:22 -0400 (Sun, 09 Jun 2024) EndedAt: 2024-06-09 17:25:01 -0400 (Sun, 09 Jun 2024) EllapsedTime: 38.3 seconds RetCode: 0 Status: OK