Package: methylscaper Version: 1.12.3 Command: rm -rf methylscaper.buildbin-libdir && mkdir methylscaper.buildbin-libdir && E:\biocbuild\bbs-3.19-bioc\R\bin\R.exe CMD INSTALL --build --library=methylscaper.buildbin-libdir methylscaper_1.12.3.tar.gz StartedAt: 2024-10-17 08:07:23 -0400 (Thu, 17 Oct 2024) EndedAt: 2024-10-17 08:08:14 -0400 (Thu, 17 Oct 2024) EllapsedTime: 51.2 seconds RetCode: 0 Status: OK PackageFile: methylscaper_1.12.3.zip PackageFileSize: 2.971 MiB