Package: methylscaper Version: 1.12.3 Command: E:\biocbuild\bbs-3.19-bioc\R\bin\R.exe CMD check --no-multiarch --install=check:methylscaper.install-out.txt --library=E:\biocbuild\bbs-3.19-bioc\R\library --no-vignettes --timings methylscaper_1.12.3.tar.gz StartedAt: 2024-10-17 03:12:55 -0400 (Thu, 17 Oct 2024) EndedAt: 2024-10-17 03:17:17 -0400 (Thu, 17 Oct 2024) EllapsedTime: 261.9 seconds RetCode: 0 Status: OK CheckDir: methylscaper.Rcheck Warnings: 0