Package: methylscaper Version: 1.12.3 Command: E:\biocbuild\bbs-3.19-bioc\R\bin\R.exe CMD INSTALL methylscaper StartedAt: 2024-10-16 17:10:21 -0400 (Wed, 16 Oct 2024) EndedAt: 2024-10-16 17:11:12 -0400 (Wed, 16 Oct 2024) EllapsedTime: 51.2 seconds RetCode: 0 Status: OK