Package: miQC Version: 1.12.0 Command: rm -rf miQC.buildbin-libdir && mkdir miQC.buildbin-libdir && /Users/biocbuild/BBS/utils/build-universal.sh miQC_1.12.0.tar.gz /Library/Frameworks/R.framework/Resources/bin/R miQC.buildbin-libdir StartedAt: 2024-07-05 16:26:51 -0400 (Fri, 05 Jul 2024) EndedAt: 2024-07-05 16:27:24 -0400 (Fri, 05 Jul 2024) EllapsedTime: 33.0 seconds RetCode: 0 Status: OK PackageFile: miQC_1.12.0.tgz PackageFileSize: 3.104 MiB