Package: miQC Version: 1.12.0 Command: /Library/Frameworks/R.framework/Resources/bin/R CMD build --keep-empty-dirs --no-resave-data miQC StartedAt: 2024-10-17 04:29:49 -0400 (Thu, 17 Oct 2024) EndedAt: 2024-10-17 04:31:22 -0400 (Thu, 17 Oct 2024) EllapsedTime: 93.6 seconds RetCode: 1 Status: ERROR PackageFile: None PackageFileSize: NA