Package: miQC Version: 1.12.0 Command: /Library/Frameworks/R.framework/Resources/bin/R CMD INSTALL miQC StartedAt: 2024-10-16 16:04:59 -0400 (Wed, 16 Oct 2024) EndedAt: 2024-10-16 16:05:30 -0400 (Wed, 16 Oct 2024) EllapsedTime: 31.0 seconds RetCode: 0 Status: OK