Package: miRBaseConverter Version: 1.28.6 Command: /Library/Frameworks/R.framework/Resources/bin/R CMD build --keep-empty-dirs --no-resave-data miRBaseConverter StartedAt: 2024-10-17 04:30:52 -0400 (Thu, 17 Oct 2024) EndedAt: 2024-10-17 04:31:28 -0400 (Thu, 17 Oct 2024) EllapsedTime: 36.2 seconds RetCode: 0 Status: OK PackageFile: miRBaseConverter_1.28.6.tar.gz PackageFileSize: 1.939 MiB