Package: miRBaseConverter Version: 1.28.0 Command: rm -rf miRBaseConverter.buildbin-libdir && mkdir miRBaseConverter.buildbin-libdir && /Users/biocbuild/BBS/utils/build-universal.sh miRBaseConverter_1.28.0.tar.gz /Library/Frameworks/R.framework/Resources/bin/R miRBaseConverter.buildbin-libdir StartedAt: 2024-06-11 12:04:58 -0400 (Tue, 11 Jun 2024) EndedAt: 2024-06-11 12:05:29 -0400 (Tue, 11 Jun 2024) EllapsedTime: 31.3 seconds RetCode: 0 Status: OK PackageFile: miRBaseConverter_1.28.0.tgz PackageFileSize: 1.984 MiB