Package: miRBaseConverter Version: 1.28.6 Command: /Library/Frameworks/R.framework/Resources/bin/R CMD build --keep-empty-dirs --no-resave-data miRBaseConverter StartedAt: 2024-10-16 20:57:35 -0400 (Wed, 16 Oct 2024) EndedAt: 2024-10-16 20:58:35 -0400 (Wed, 16 Oct 2024) EllapsedTime: 59.9 seconds RetCode: 0 Status: OK PackageFile: miRBaseConverter_1.28.6.tar.gz PackageFileSize: 1.939 MiB