Package: miRBaseConverter Version: 1.28.6 Command: /Library/Frameworks/R.framework/Resources/bin/R CMD check --install=check:miRBaseConverter.install-out.txt --library=/Library/Frameworks/R.framework/Resources/library --no-vignettes --timings miRBaseConverter_1.28.6.tar.gz StartedAt: 2024-10-17 08:48:26 -0400 (Thu, 17 Oct 2024) EndedAt: 2024-10-17 08:50:07 -0400 (Thu, 17 Oct 2024) EllapsedTime: 101.6 seconds RetCode: 0 Status: OK CheckDir: miRBaseConverter.Rcheck Warnings: 0